BEGIN:VCALENDAR
VERSION:2.0
PRODID:-//Lorient Athlétisme Club - ECPv6.15.15//NONSGML v1.0//EN
CALSCALE:GREGORIAN
METHOD:PUBLISH
X-ORIGINAL-URL:https://lorientathletismeclub.fr
X-WR-CALDESC:Évènements pour Lorient Athlétisme Club
REFRESH-INTERVAL;VALUE=DURATION:PT1H
X-Robots-Tag:noindex
X-PUBLISHED-TTL:PT1H
BEGIN:VTIMEZONE
TZID:Europe/Paris
BEGIN:DAYLIGHT
TZOFFSETFROM:+0100
TZOFFSETTO:+0200
TZNAME:CEST
DTSTART:20220327T010000
END:DAYLIGHT
BEGIN:STANDARD
TZOFFSETFROM:+0200
TZOFFSETTO:+0100
TZNAME:CET
DTSTART:20221030T010000
END:STANDARD
BEGIN:DAYLIGHT
TZOFFSETFROM:+0100
TZOFFSETTO:+0200
TZNAME:CEST
DTSTART:20230326T010000
END:DAYLIGHT
BEGIN:STANDARD
TZOFFSETFROM:+0200
TZOFFSETTO:+0100
TZNAME:CET
DTSTART:20231029T010000
END:STANDARD
BEGIN:DAYLIGHT
TZOFFSETFROM:+0100
TZOFFSETTO:+0200
TZNAME:CEST
DTSTART:20240331T010000
END:DAYLIGHT
BEGIN:STANDARD
TZOFFSETFROM:+0200
TZOFFSETTO:+0100
TZNAME:CET
DTSTART:20241027T010000
END:STANDARD
END:VTIMEZONE
BEGIN:VEVENT
DTSTART;VALUE=DATE:20230219
DTEND;VALUE=DATE:20230220
DTSTAMP:20260422T211118
CREATED:20230203T094024Z
LAST-MODIFIED:20230203T103459Z
UID:3836-1676764800-1676851199@lorientathletismeclub.fr
SUMMARY:Pré-France de cross - Brest
DESCRIPTION:La demi-finale des championnats de France de cross se déroulera dimanche 19 février 2023 sur le site de la marine du Bergot – bd de l’Europe à Brest (29).
URL:https://lorientathletismeclub.fr/event/pre-france-de-cross-brest/
LOCATION:Le Bergot\, Boulevard de l'Europe\, Brest\, 29200
END:VEVENT
END:VCALENDAR