BEGIN:VCALENDAR
VERSION:2.0
PRODID:-//Lorient Athlétisme Club - ECPv6.15.15//NONSGML v1.0//EN
CALSCALE:GREGORIAN
METHOD:PUBLISH
X-ORIGINAL-URL:https://lorientathletismeclub.fr
X-WR-CALDESC:Évènements pour Lorient Athlétisme Club
REFRESH-INTERVAL;VALUE=DURATION:PT1H
X-Robots-Tag:noindex
X-PUBLISHED-TTL:PT1H
BEGIN:VTIMEZONE
TZID:Europe/Paris
BEGIN:DAYLIGHT
TZOFFSETFROM:+0100
TZOFFSETTO:+0200
TZNAME:CEST
DTSTART:20220327T010000
END:DAYLIGHT
BEGIN:STANDARD
TZOFFSETFROM:+0200
TZOFFSETTO:+0100
TZNAME:CET
DTSTART:20221030T010000
END:STANDARD
BEGIN:DAYLIGHT
TZOFFSETFROM:+0100
TZOFFSETTO:+0200
TZNAME:CEST
DTSTART:20230326T010000
END:DAYLIGHT
BEGIN:STANDARD
TZOFFSETFROM:+0200
TZOFFSETTO:+0100
TZNAME:CET
DTSTART:20231029T010000
END:STANDARD
BEGIN:DAYLIGHT
TZOFFSETFROM:+0100
TZOFFSETTO:+0200
TZNAME:CEST
DTSTART:20240331T010000
END:DAYLIGHT
BEGIN:STANDARD
TZOFFSETFROM:+0200
TZOFFSETTO:+0100
TZNAME:CET
DTSTART:20241027T010000
END:STANDARD
END:VTIMEZONE
BEGIN:VEVENT
DTSTART;TZID=Europe/Paris:20230225T110000
DTEND;TZID=Europe/Paris:20230226T170000
DTSTAMP:20260422T211156
CREATED:20230203T102309Z
LAST-MODIFIED:20230203T102309Z
UID:3860-1677322800-1677430800@lorientathletismeclub.fr
SUMMARY:Championnats de France cadets-juniors en salle
DESCRIPTION:Point d’orgue de la saison en salle\, les France U18-U20 se dérouleront dans la salle Diagana. Les couleurs du LAC y seront représentées. Toutes les infos ci-après… \n 
URL:https://lorientathletismeclub.fr/event/championnats-de-france-cadets-juniors-en-salle/
LOCATION:Lyon\, Halle Stéphane Diagana - 04 rue Victor Schoelcher\, 69009
END:VEVENT
END:VCALENDAR