BEGIN:VCALENDAR
VERSION:2.0
PRODID:-//Lorient Athlétisme Club - ECPv6.15.15//NONSGML v1.0//EN
CALSCALE:GREGORIAN
METHOD:PUBLISH
X-WR-CALNAME:Lorient Athlétisme Club
X-ORIGINAL-URL:https://lorientathletismeclub.fr
X-WR-CALDESC:Évènements pour Lorient Athlétisme Club
REFRESH-INTERVAL;VALUE=DURATION:PT1H
X-Robots-Tag:noindex
X-PUBLISHED-TTL:PT1H
BEGIN:VTIMEZONE
TZID:Europe/Paris
BEGIN:DAYLIGHT
TZOFFSETFROM:+0100
TZOFFSETTO:+0200
TZNAME:CEST
DTSTART:20220327T010000
END:DAYLIGHT
BEGIN:STANDARD
TZOFFSETFROM:+0200
TZOFFSETTO:+0100
TZNAME:CET
DTSTART:20221030T010000
END:STANDARD
BEGIN:DAYLIGHT
TZOFFSETFROM:+0100
TZOFFSETTO:+0200
TZNAME:CEST
DTSTART:20230326T010000
END:DAYLIGHT
BEGIN:STANDARD
TZOFFSETFROM:+0200
TZOFFSETTO:+0100
TZNAME:CET
DTSTART:20231029T010000
END:STANDARD
BEGIN:DAYLIGHT
TZOFFSETFROM:+0100
TZOFFSETTO:+0200
TZNAME:CEST
DTSTART:20240331T010000
END:DAYLIGHT
BEGIN:STANDARD
TZOFFSETFROM:+0200
TZOFFSETTO:+0100
TZNAME:CET
DTSTART:20241027T010000
END:STANDARD
END:VTIMEZONE
BEGIN:VEVENT
DTSTART;TZID=Europe/Paris:20230303T080000
DTEND;TZID=Europe/Paris:20230305T170000
DTSTAMP:20260422T192739
CREATED:20230202T153223Z
LAST-MODIFIED:20230203T100300Z
UID:3682-1677830400-1678035600@lorientathletismeclub.fr
SUMMARY:Championnats de France indoor Masters
DESCRIPTION:Durant trois jours se tiendront les France Masters Indoor – Le LAC sera présent sur 60m et 200m avec notre sprinter Jessy Resmond.
URL:https://lorientathletismeclub.fr/event/championnats-de-france-masters/
LOCATION:Miramas\, bd d'espagne\, Miramas\, 13140\, France
END:VEVENT
END:VCALENDAR