BEGIN:VCALENDAR
VERSION:2.0
PRODID:-//Lorient Athlétisme Club - ECPv6.15.15//NONSGML v1.0//EN
CALSCALE:GREGORIAN
METHOD:PUBLISH
X-WR-CALNAME:Lorient Athlétisme Club
X-ORIGINAL-URL:https://lorientathletismeclub.fr
X-WR-CALDESC:Évènements pour Lorient Athlétisme Club
REFRESH-INTERVAL;VALUE=DURATION:PT1H
X-Robots-Tag:noindex
X-PUBLISHED-TTL:PT1H
BEGIN:VTIMEZONE
TZID:Europe/Paris
BEGIN:DAYLIGHT
TZOFFSETFROM:+0100
TZOFFSETTO:+0200
TZNAME:CEST
DTSTART:20220327T010000
END:DAYLIGHT
BEGIN:STANDARD
TZOFFSETFROM:+0200
TZOFFSETTO:+0100
TZNAME:CET
DTSTART:20221030T010000
END:STANDARD
BEGIN:DAYLIGHT
TZOFFSETFROM:+0100
TZOFFSETTO:+0200
TZNAME:CEST
DTSTART:20230326T010000
END:DAYLIGHT
BEGIN:STANDARD
TZOFFSETFROM:+0200
TZOFFSETTO:+0100
TZNAME:CET
DTSTART:20231029T010000
END:STANDARD
BEGIN:DAYLIGHT
TZOFFSETFROM:+0100
TZOFFSETTO:+0200
TZNAME:CEST
DTSTART:20240331T010000
END:DAYLIGHT
BEGIN:STANDARD
TZOFFSETFROM:+0200
TZOFFSETTO:+0100
TZNAME:CET
DTSTART:20241027T010000
END:STANDARD
END:VTIMEZONE
BEGIN:VEVENT
DTSTART;VALUE=DATE:20230326
DTEND;VALUE=DATE:20230327
DTSTAMP:20260422T192804
CREATED:20230310T060345Z
LAST-MODIFIED:20230310T060345Z
UID:4184-1679788800-1679875199@lorientathletismeclub.fr
SUMMARY:Championnats de France de 10 km
DESCRIPTION:Départ Avenue Jean-Jacques Rousseau à Houilles (78) – Arrivée rue Gambetta face à la mairie. \nToutes les infos sur le site de la FFA (voir hyperlien ci-dessous) \n 
URL:https://lorientathletismeclub.fr/event/championnats-de-france-de-10-km/
LOCATION:Houilles\, 78800
END:VEVENT
END:VCALENDAR