BEGIN:VCALENDAR
VERSION:2.0
PRODID:-//Lorient Athlétisme Club - ECPv6.15.15//NONSGML v1.0//EN
CALSCALE:GREGORIAN
METHOD:PUBLISH
X-ORIGINAL-URL:https://lorientathletismeclub.fr
X-WR-CALDESC:Évènements pour Lorient Athlétisme Club
REFRESH-INTERVAL;VALUE=DURATION:PT1H
X-Robots-Tag:noindex
X-PUBLISHED-TTL:PT1H
BEGIN:VTIMEZONE
TZID:Europe/Paris
BEGIN:DAYLIGHT
TZOFFSETFROM:+0100
TZOFFSETTO:+0200
TZNAME:CEST
DTSTART:20250330T010000
END:DAYLIGHT
BEGIN:STANDARD
TZOFFSETFROM:+0200
TZOFFSETTO:+0100
TZNAME:CET
DTSTART:20251026T010000
END:STANDARD
BEGIN:DAYLIGHT
TZOFFSETFROM:+0100
TZOFFSETTO:+0200
TZNAME:CEST
DTSTART:20260329T010000
END:DAYLIGHT
BEGIN:STANDARD
TZOFFSETFROM:+0200
TZOFFSETTO:+0100
TZNAME:CET
DTSTART:20261025T010000
END:STANDARD
BEGIN:DAYLIGHT
TZOFFSETFROM:+0100
TZOFFSETTO:+0200
TZNAME:CEST
DTSTART:20270328T010000
END:DAYLIGHT
BEGIN:STANDARD
TZOFFSETFROM:+0200
TZOFFSETTO:+0100
TZNAME:CET
DTSTART:20271031T010000
END:STANDARD
END:VTIMEZONE
BEGIN:VEVENT
DTSTART;TZID=Europe/Paris:20260404T090000
DTEND;TZID=Europe/Paris:20260404T170000
DTSTAMP:20260420T205143
CREATED:20240110T220441Z
LAST-MODIFIED:20260105T160055Z
UID:5275-1775293200-1775322000@lorientathletismeclub.fr
SUMMARY:La Nordique de Lorient
DESCRIPTION:Épreuve chronométrée label National FFA.\nLe samedi 4 avril 2026.\nInscription en ligne du  samedi 31 janvier au mardi 31 mars 2026.\nUne majoration de 4€ sera effectuée pour toute inscription du mardi 24 au mardi 31 mars minuit.
URL:https://lorientathletismeclub.fr/event/la-nordique/
LOCATION:Le Pouillot\, Allée du village de Kerulvé\, Lorient\, 56100\, France
END:VEVENT
END:VCALENDAR